BEGIN:VCALENDAR
VERSION:2.0
PRODID:-//InvisionCommunity Events 4.7.23//EN
METHOD:PUBLISH
CALSCALE:GREGORIAN
REFRESH-INTERVAL:PT15M
X-PUBLISHED-TTL:PT15M
X-WR-CALNAME:Community Calendar
NAME:Community Calendar
BEGIN:VTIMEZONE
TZID:Europe/London
TZURL:http://tzurl.org/zoneinfo/Europe/London
X-LIC-LOCATION:Europe/London
BEGIN:DAYLIGHT
TZOFFSETFROM:+0000
TZOFFSETTO:+0100
TZNAME:BST
DTSTART:20230326T020000Z
RRULE:FREQ=YEARLY;BYMONTH=3;BYDAY=-1SU
END:DAYLIGHT
BEGIN:STANDARD
TZOFFSETFROM:+0100
TZOFFSETTO:+0000
TZNAME:GMT
DTSTART:20231029T020000Z
RRULE:FREQ=YEARLY;BYMONTH=10;BYDAY=-1SU
END:STANDARD
END:VTIMEZONE
BEGIN:VEVENT
SUMMARY:Chivalry 2 session
DTSTAMP:20230523T073436Z
SEQUENCE:0
UID:995-1-9fc065fb024381d9208cc46b874bab3c@forevergaming.co.uk
ORGANIZER;CN="Luseth":hello@forevergaming.co.uk
DESCRIPTION:\n	Just seeing if there is any interest in giving this a go?
	 It is / was? free on PS Plus so I think a few of us should have it now.\n
	\n\n\n	 \n\n\n\n	I had a go with Tom last week and found it quite enterta
	ining (though it was carnage)\, squad size is 4 by the looks of it so if w
	e exceed that we might have to have just 2 groups or something.\n\n
DTSTART:20230524T190000Z
END:VEVENT
END:VCALENDAR
