BEGIN:VCALENDAR
VERSION:2.0
PRODID:-//InvisionCommunity Events 4.7.23//EN
METHOD:PUBLISH
CALSCALE:GREGORIAN
REFRESH-INTERVAL:PT15M
X-PUBLISHED-TTL:PT15M
X-WR-CALNAME:Community Calendar
NAME:Community Calendar
BEGIN:VTIMEZONE
TZID:Europe/London
TZURL:http://tzurl.org/zoneinfo/Europe/London
X-LIC-LOCATION:Europe/London
BEGIN:DAYLIGHT
TZOFFSETFROM:+0000
TZOFFSETTO:+0100
TZNAME:BST
DTSTART:20230326T020000Z
RRULE:FREQ=YEARLY;BYMONTH=3;BYDAY=-1SU
END:DAYLIGHT
BEGIN:STANDARD
TZOFFSETFROM:+0100
TZOFFSETTO:+0000
TZNAME:GMT
DTSTART:20231029T020000Z
RRULE:FREQ=YEARLY;BYMONTH=10;BYDAY=-1SU
END:STANDARD
END:VTIMEZONE
BEGIN:VEVENT
SUMMARY:Crash Team Rumble - Closed Beta
DTSTAMP:20230328T101329Z
SEQUENCE:0
UID:962-1-9fc065fb024381d9208cc46b874bab3c@forevergaming.co.uk
ORGANIZER;CN="GazzaGarratt":hello@forevergaming.co.uk
DESCRIPTION:\n	Closed Beta starts from April 20th until April 24th. Pre-
	order required in order to gain access to the Beta on the relevant platfor
	m.\n\n\n\n	 \n\n\n\n	Crash Team Rumble Closed Beta will be running on:\n\
	n\n\n	PS4\n\n\n\n	PS5\n\n\n\n	Xbox One\n\n\n\n	Xbox Series X/S\n\n
DTSTART;VALUE=DATE:20230420
DTEND;VALUE=DATE:20230425
END:VEVENT
END:VCALENDAR
