BEGIN:VCALENDAR
VERSION:2.0
PRODID:-//InvisionCommunity Events 4.7.23//EN
METHOD:PUBLISH
CALSCALE:GREGORIAN
REFRESH-INTERVAL:PT15M
X-PUBLISHED-TTL:PT15M
X-WR-CALNAME:Community Calendar
NAME:Community Calendar
BEGIN:VTIMEZONE
TZID:Europe/London
TZURL:http://tzurl.org/zoneinfo/Europe/London
X-LIC-LOCATION:Europe/London
BEGIN:DAYLIGHT
TZOFFSETFROM:+0000
TZOFFSETTO:+0100
TZNAME:BST
DTSTART:20230326T020000Z
RRULE:FREQ=YEARLY;BYMONTH=3;BYDAY=-1SU
END:DAYLIGHT
BEGIN:STANDARD
TZOFFSETFROM:+0100
TZOFFSETTO:+0000
TZNAME:GMT
DTSTART:20231029T020000Z
RRULE:FREQ=YEARLY;BYMONTH=10;BYDAY=-1SU
END:STANDARD
END:VTIMEZONE
BEGIN:VEVENT
SUMMARY:Diablo 4 - Open Beta Weekend
DTSTAMP:20230301T134349Z
SEQUENCE:0
UID:942-1-9fc065fb024381d9208cc46b874bab3c@forevergaming.co.uk
ORGANIZER;CN="GazzaGarratt":hello@forevergaming.co.uk
DESCRIPTION:\n	PS5\, Xbox and PC Open Beta for all. Download requirement
	s should be known nearer the weekend but worth a go at downloading to see 
	what its like. NO REQUIREMENT TO PRE-ORDER THE GAME TO ACCESS THE OPEN BET
	A!\n\n\n\n	 \n\n\n\n	Classes to try out on Open Beta\n\n\n\n		Barbarian\n
		\n	\n		Rogue\n	\n	\n		Sorcerer\n	\n	\n		Necromancer\n	\n	\n		Druid \n	\n
	\n	 \n\n\n\n	Beta Rewards\n\n\n\n		\n			Initial Casualty title for reach
	ing Kyovashad with one character\n		\n	\n	\n		\n			Early Voyager title fo
	r reaching level 20 on one character\n		\n	\n	\n		\n			Beta wolf pack cosm
	etic item for reaching level 20 on one character\n		\n	\n\n	 \n\n\n\n	P
	C  System Requirements\n\n\n\n	 \n\n\n\n	Minimum (1080p\, 720p render re
	solution\, low graphics settings\, 30 fps)\n\n\n\n	CPU: Intel Core i5 250
	0K or AMD FX 8100\n\n\n\n	RAM: 8 GB RAM\n\n\n\n	GPU: Nvidia GeForce GTX 
	660 or AMD RAdeon R9 280\n\n\n\n	Storage: 45 GB available space\n\n\n\n	
	 \n\n\n\n	Recommended (1080p\, medium graphics settings\, 60 fps)\n\n\n\
	n	CPU: Intel Core i5 4670K or AMD R3 1300X \n\n\n\n	RAM: 16 GB\n\n\n\n	
	GPU: Nvidia GeForce GTX 970 or AMD Radeon RX 370\n\n\n\n	Storage: 45 GB 
	available space\n\n\n\n	 \n\n\n\n	 \n\n\n\n	Get your name down below if 
	you're up for giving it a go and sharing your thoughts afterwards!\n\n
DTSTART;VALUE=DATE:20230324
DTEND;VALUE=DATE:20230328
ATTENDEE;CN="GazzaGarratt";CUTYPE=INDIVIDUAL;PARTSTAT=ACCEPT
	ED:hello@forevergaming.co.uk
ATTENDEE;CN="Lurchzy";CUTYPE=INDIVIDUAL;PARTSTAT=ACCEPTED:he
	llo@forevergaming.co.uk
ATTENDEE;CN="Luseth";CUTYPE=INDIVIDUAL;PARTSTAT=ACCEPTED:hel
	lo@forevergaming.co.uk
END:VEVENT
END:VCALENDAR
