BEGIN:VCALENDAR
VERSION:2.0
PRODID:-//InvisionCommunity Events 4.7.23//EN
METHOD:PUBLISH
CALSCALE:GREGORIAN
REFRESH-INTERVAL:PT15M
X-PUBLISHED-TTL:PT15M
X-WR-CALNAME:IRL Meet Up Calendar
NAME:IRL Meet Up Calendar
BEGIN:VTIMEZONE
TZID:Europe/London
TZURL:http://tzurl.org/zoneinfo/Europe/London
X-LIC-LOCATION:Europe/London
BEGIN:DAYLIGHT
TZOFFSETFROM:+0000
TZOFFSETTO:+0100
TZNAME:BST
DTSTART:20230326T020000Z
RRULE:FREQ=YEARLY;BYMONTH=3;BYDAY=-1SU
END:DAYLIGHT
BEGIN:STANDARD
TZOFFSETFROM:+0100
TZOFFSETTO:+0000
TZNAME:GMT
DTSTART:20231029T020000Z
RRULE:FREQ=YEARLY;BYMONTH=10;BYDAY=-1SU
END:STANDARD
END:VTIMEZONE
BEGIN:VEVENT
SUMMARY:IRL FG Meet Up - Boom Battle Bar\, Coventry\, UK
DTSTAMP:20230201T142332Z
SEQUENCE:0
UID:931-10-9fc065fb024381d9208cc46b874bab3c@forevergaming.co.uk
ORGANIZER;CN="GazzaGarratt":hello@forevergaming.co.uk
DESCRIPTION:\n	Time for a mini catch up IRL for some fun and games. We'l
	l likely pick a few games to play like Shuffleboard\, Beer Pong and Intera
	ctive Darts whilst we have a few beers and good catch up. Hopefully some c
	an make the visit - no pressure to come or even stay the night as its just
	 an evening thing but would be great to see some of us make the journey. T
	he link is below if you want to find out more about the place\, games and 
	prices:\n\n\n\n	 \n\n\n\n	\n		\n			 ENTER THE BATTLEGROUND - Coventry\n		
	\n\n		\n			BOOMBATTLEBAR.COM\n		\n	\n\n\n\n	 \n\n\n\n	Please RSVP as we w
	ill need to book in advance for however many come. And if you can't come\,
	 don't worry as we plan to put more catch ups and little trips in through 
	the year for us all.\n\n\n\n	 \n\n\n\n	Cheers!\n\n
DTSTART:20230225T180000Z
ATTENDEE;CN="LordBaguette";CUTYPE=INDIVIDUAL;PARTSTAT=ACCEPT
	ED:hello@forevergaming.co.uk
ATTENDEE;CN="Lurchzy";CUTYPE=INDIVIDUAL;PARTSTAT=ACCEPTED:he
	llo@forevergaming.co.uk
ATTENDEE;CN="Macca89";CUTYPE=INDIVIDUAL;PARTSTAT=ACCEPTED:he
	llo@forevergaming.co.uk
ATTENDEE;CN="Antpool84";CUTYPE=INDIVIDUAL;PARTSTAT=ACCEPTED:
	hello@forevergaming.co.uk
ATTENDEE;CN="GazzaGarratt";CUTYPE=INDIVIDUAL;PARTSTAT=ACCEPT
	ED:hello@forevergaming.co.uk
ATTENDEE;CN="Stretch616";CUTYPE=INDIVIDUAL;PARTSTAT=ACCEPTED
	:hello@forevergaming.co.uk
ATTENDEE;CN="TonyAE86";CUTYPE=INDIVIDUAL;PARTSTAT=ACCEPTED:h
	ello@forevergaming.co.uk
END:VEVENT
END:VCALENDAR
