BEGIN:VCALENDAR
VERSION:2.0
PRODID:-//InvisionCommunity Events 4.7.23//EN
METHOD:PUBLISH
CALSCALE:GREGORIAN
REFRESH-INTERVAL:PT15M
X-PUBLISHED-TTL:PT15M
X-WR-CALNAME:Community Calendar
NAME:Community Calendar
BEGIN:VTIMEZONE
TZID:Europe/London
TZURL:http://tzurl.org/zoneinfo/Europe/London
X-LIC-LOCATION:Europe/London
BEGIN:DAYLIGHT
TZOFFSETFROM:+0000
TZOFFSETTO:+0100
TZNAME:BST
DTSTART:20230326T020000Z
RRULE:FREQ=YEARLY;BYMONTH=3;BYDAY=-1SU
END:DAYLIGHT
BEGIN:STANDARD
TZOFFSETFROM:+0100
TZOFFSETTO:+0000
TZNAME:GMT
DTSTART:20231029T020000Z
RRULE:FREQ=YEARLY;BYMONTH=10;BYDAY=-1SU
END:STANDARD
END:VTIMEZONE
BEGIN:VEVENT
SUMMARY:FG FRIDAY - MW2
DTSTAMP:20230113T193156Z
SEQUENCE:0
UID:924-1-9fc065fb024381d9208cc46b874bab3c@forevergaming.co.uk
ORGANIZER;CN="Macca89":hello@forevergaming.co.uk
DESCRIPTION:\n	Hi Peeps\n\n\n\n	 \n\n\n\n	Enjoyed last week when we man
	aged to get around 10 of us for a private game\n\n\n\n	 \n\n\n\n	Lets see
	 if we can get more of us on this week for a 6 v 6! \n\n\n\n	 \n\n\n\n	I
	TS GONNA BE A BLOODBATH!!!! 😆😈\n\n
DTSTART:20230113T201500Z
ATTENDEE;CN="GazzaGarratt";CUTYPE=INDIVIDUAL;PARTSTAT=ACCEPT
	ED:hello@forevergaming.co.uk
ATTENDEE;CN="Greboth";CUTYPE=INDIVIDUAL;PARTSTAT=ACCEPTED:he
	llo@forevergaming.co.uk
ATTENDEE;CN="Macca89";CUTYPE=INDIVIDUAL;PARTSTAT=ACCEPTED:he
	llo@forevergaming.co.uk
END:VEVENT
END:VCALENDAR
