BEGIN:VCALENDAR
VERSION:2.0
PRODID:-//InvisionCommunity Events 4.7.23//EN
METHOD:PUBLISH
CALSCALE:GREGORIAN
REFRESH-INTERVAL:PT15M
X-PUBLISHED-TTL:PT15M
X-WR-CALNAME:Destiny
NAME:Destiny
BEGIN:VTIMEZONE
TZID:Europe/London
TZURL:http://tzurl.org/zoneinfo/Europe/London
X-LIC-LOCATION:Europe/London
BEGIN:DAYLIGHT
TZOFFSETFROM:+0000
TZOFFSETTO:+0100
TZNAME:BST
DTSTART:20220327T020000Z
RRULE:FREQ=YEARLY;BYMONTH=3;BYDAY=-1SU
END:DAYLIGHT
BEGIN:STANDARD
TZOFFSETFROM:+0100
TZOFFSETTO:+0000
TZNAME:GMT
DTSTART:20221030T020000Z
RRULE:FREQ=YEARLY;BYMONTH=10;BYDAY=-1SU
END:STANDARD
END:VTIMEZONE
BEGIN:VEVENT
SUMMARY:Vow Before Reset! Teaching Run!
DTSTAMP:20220312T181638Z
SEQUENCE:0
UID:765-5-9fc065fb024381d9208cc46b874bab3c@forevergaming.co.uk
ORGANIZER;CN="Horrible_Hector":hello@forevergaming.co.uk
DESCRIPTION:\n	If it's your first time\, get in here. We can certainly k
	nock out a few encounters before reset. \n\n	I have a decent understandin
	g of the raid so let's get in here and get learning/get earning some raid 
	loot. \n\n\n	Time is flexible\, an hour or two earlier/later is fine! Let
	 me know. \n\n
DTSTART:20220312T180000Z
END:VEVENT
END:VCALENDAR
