BEGIN:VCALENDAR
VERSION:2.0
PRODID:-//InvisionCommunity Events 4.7.23//EN
METHOD:PUBLISH
CALSCALE:GREGORIAN
REFRESH-INTERVAL:PT15M
X-PUBLISHED-TTL:PT15M
X-WR-CALNAME:FIFA
NAME:FIFA
BEGIN:VTIMEZONE
TZID:Europe/London
TZURL:http://tzurl.org/zoneinfo/Europe/London
X-LIC-LOCATION:Europe/London
BEGIN:DAYLIGHT
TZOFFSETFROM:+0000
TZOFFSETTO:+0100
TZNAME:BST
DTSTART:20220327T020000Z
RRULE:FREQ=YEARLY;BYMONTH=3;BYDAY=-1SU
END:DAYLIGHT
BEGIN:STANDARD
TZOFFSETFROM:+0100
TZOFFSETTO:+0000
TZNAME:GMT
DTSTART:20221030T020000Z
RRULE:FREQ=YEARLY;BYMONTH=10;BYDAY=-1SU
END:STANDARD
END:VTIMEZONE
BEGIN:VEVENT
SUMMARY:Pro Clubs - A New Beginning!!!!
DTSTAMP:20220228T180519Z
SEQUENCE:0
UID:756-8-9fc065fb024381d9208cc46b874bab3c@forevergaming.co.uk
ORGANIZER;CN="Macca89":hello@forevergaming.co.uk
DESCRIPTION:\n	Hi dudes (Hi Tom)\n\n\n\n	 \n\n\n\n	After discussion wit
	h our governing body and taking all things into consideration we will be a
	gain starting in Division 10 under the name Forever-Gaming\n\n\n\n	 \n\n\
	n\n	You all should of had an invite sent to you once you head onto pro clu
	bs\, so leave the current club and then Join. \n\n\n\n	 \n\n\n\n	The rea
	sons for doing this are to help you all achieve your Fifa Badges\, which @
	GazzaGarratthas taken much time to get sorted. \n\n\n\n	 \n\n\n\n	Some o
	f them include Division 10 trophies and so on\, some of us would of achiev
	ed this however some of the players joined when we were in Div 6/5 etc\n\n
	\n\n	 \n\n\n\n	This being said I think its only fair we have a fresh star
	t now everyone has the game and people have more chance of also gaining XP
	 quicker for their pro's too by winning titles and getting promoted and ca
	n get their badges for FG.\n\n\n\n	 \n\n\n\n	Its all about being fair to 
	everyone 🙂 \n\n\n\n	 \n\n\n\n	Hope to see you all tonight\n\n\n\n	 \
	n\n\n\n	GGFG \n\n
DTSTART:20220228T200000Z
ATTENDEE;CN="Macca89";CUTYPE=INDIVIDUAL;PARTSTAT=ACCEPTED:he
	llo@forevergaming.co.uk
ATTENDEE;CN="LordBaguette";CUTYPE=INDIVIDUAL;PARTSTAT=ACCEPT
	ED:hello@forevergaming.co.uk
ATTENDEE;CN="GazzaGarratt";CUTYPE=INDIVIDUAL;PARTSTAT=ACCEPT
	ED:hello@forevergaming.co.uk
ATTENDEE;CN="Antpool84";CUTYPE=INDIVIDUAL;PARTSTAT=ACCEPTED:
	hello@forevergaming.co.uk
END:VEVENT
END:VCALENDAR
