BEGIN:VCALENDAR
VERSION:2.0
PRODID:-//InvisionCommunity Events 4.7.23//EN
METHOD:PUBLISH
CALSCALE:GREGORIAN
REFRESH-INTERVAL:PT15M
X-PUBLISHED-TTL:PT15M
X-WR-CALNAME:Community Calendar
NAME:Community Calendar
BEGIN:VTIMEZONE
TZID:Europe/London
TZURL:http://tzurl.org/zoneinfo/Europe/London
X-LIC-LOCATION:Europe/London
BEGIN:DAYLIGHT
TZOFFSETFROM:+0000
TZOFFSETTO:+0100
TZNAME:BST
DTSTART:20210328T020000Z
RRULE:FREQ=YEARLY;BYMONTH=3;BYDAY=-1SU
END:DAYLIGHT
BEGIN:STANDARD
TZOFFSETFROM:+0100
TZOFFSETTO:+0000
TZNAME:GMT
DTSTART:20211031T020000Z
RRULE:FREQ=YEARLY;BYMONTH=10;BYDAY=-1SU
END:STANDARD
END:VTIMEZONE
BEGIN:VEVENT
SUMMARY:Gran Turismo Sport - Summer Season
DTSTAMP:20210726T222556Z
SEQUENCE:0
UID:605-1-9fc065fb024381d9208cc46b874bab3c@forevergaming.co.uk
ORGANIZER;CN="phil bottle":hello@forevergaming.co.uk
DESCRIPTION:\n	League race #1\n\n\n\n	 \n\n\n\n	Gr.4\n\n\n\n	Tsukuba ci
	rcuit\n\n\n\n	10 laps\n\n\n\n	Any tyres\, no fuel use\n\n\n\n	 \n\n\n\n	
	 \n\n\n\n	League race #2\n\n\n\n	 \n\n\n\n	Gr.4\n\n\n\n	Suzuka\n\n\n\n	1
	2 laps\n\n\n\n	Any tyres\n\n\n\n	Tyres x4 \n\n\n\n	Fuel x4 \n\n\n\n	 \n
	\n\n\n	 \n\n\n\n	Fun race #1\n\n\n\n	 \n\n\n\n	Mini madness \n\n\n\n	Br
	ands Hatch\n\n\n\n	 \n\n
DTSTART:20210729T183000Z
ATTENDEE;CN="phil bottle";CUTYPE=INDIVIDUAL;PARTSTAT=ACCEPTE
	D:hello@forevergaming.co.uk
ATTENDEE;CN="Greboth";CUTYPE=INDIVIDUAL;PARTSTAT=ACCEPTED:he
	llo@forevergaming.co.uk
ATTENDEE;CN="GazzaGarratt";CUTYPE=INDIVIDUAL;PARTSTAT=ACCEPT
	ED:hello@forevergaming.co.uk
ATTENDEE;CN="Mikepjbell";CUTYPE=INDIVIDUAL;PARTSTAT=ACCEPTED
	:hello@forevergaming.co.uk
ATTENDEE;CN="slamminbones";CUTYPE=INDIVIDUAL;PARTSTAT=ACCEPT
	ED:hello@forevergaming.co.uk
END:VEVENT
END:VCALENDAR
