BEGIN:VCALENDAR
VERSION:2.0
PRODID:-//InvisionCommunity Events 4.7.23//EN
METHOD:PUBLISH
CALSCALE:GREGORIAN
REFRESH-INTERVAL:PT15M
X-PUBLISHED-TTL:PT15M
X-WR-CALNAME:Community Calendar
NAME:Community Calendar
BEGIN:VTIMEZONE
TZID:Europe/London
TZURL:http://tzurl.org/zoneinfo/Europe/London
X-LIC-LOCATION:Europe/London
BEGIN:DAYLIGHT
TZOFFSETFROM:+0000
TZOFFSETTO:+0100
TZNAME:BST
DTSTART:20210328T020000Z
RRULE:FREQ=YEARLY;BYMONTH=3;BYDAY=-1SU
END:DAYLIGHT
BEGIN:STANDARD
TZOFFSETFROM:+0100
TZOFFSETTO:+0000
TZNAME:GMT
DTSTART:20211031T020000Z
RRULE:FREQ=YEARLY;BYMONTH=10;BYDAY=-1SU
END:STANDARD
END:VTIMEZONE
BEGIN:VEVENT
SUMMARY:FG Friday Bitches!!!
DTSTAMP:20210716T154605Z
SEQUENCE:0
UID:599-1-9fc065fb024381d9208cc46b874bab3c@forevergaming.co.uk
ORGANIZER;CN="Macca89":hello@forevergaming.co.uk
DESCRIPTION:\n	So Ladies and Gents! \n\n\n\n	 \n\n\n\n	I regret to inf
	orm you this is an FG Friday without our leader Mr Garratt who has better 
	things to do! \n\n\n\n	 \n\n\n\n	Soooo... I suggest we cause as much cha
	os\, anarchy and trouble as possible! \n\n\n\n	 \n\n\n\n	Let's all get i
	n the FG game room chat around 8pm\, then just decide what we shall play t
	hen. Can be Battlefield\, Can be Wreckfest\, Cod Remastered\, Fall Guys\, 
	GTA Races\, what ever the fuck you sexy bastards want! \n\n\n\n	 \n\n\n\
	n	Let's go all out and just fuck shit up! \n\n\n\n	 \n\n\n\n	Let's show 
	that traitor that we can cope without him 😁😂🤣 (Highly doubt it bu
	t we can try) \n\n\n\n	 \n\n\n\n	See you tonight guys! \n
DTSTART:20210716T190000Z
ATTENDEE;CN="Macca89";CUTYPE=INDIVIDUAL;PARTSTAT=ACCEPTED:he
	llo@forevergaming.co.uk
ATTENDEE;CN="slamminbones";CUTYPE=INDIVIDUAL;PARTSTAT=ACCEPT
	ED:hello@forevergaming.co.uk
ATTENDEE;CN="LordBaguette";CUTYPE=INDIVIDUAL;PARTSTAT=ACCEPT
	ED:hello@forevergaming.co.uk
END:VEVENT
END:VCALENDAR
