BEGIN:VCALENDAR
VERSION:2.0
PRODID:-//InvisionCommunity Events 4.7.23//EN
METHOD:PUBLISH
CALSCALE:GREGORIAN
REFRESH-INTERVAL:PT15M
X-PUBLISHED-TTL:PT15M
X-WR-CALNAME:Community Calendar
NAME:Community Calendar
BEGIN:VTIMEZONE
TZID:Europe/London
TZURL:http://tzurl.org/zoneinfo/Europe/London
X-LIC-LOCATION:Europe/London
BEGIN:DAYLIGHT
TZOFFSETFROM:+0000
TZOFFSETTO:+0100
TZNAME:BST
DTSTART:20210328T020000Z
RRULE:FREQ=YEARLY;BYMONTH=3;BYDAY=-1SU
END:DAYLIGHT
BEGIN:STANDARD
TZOFFSETFROM:+0100
TZOFFSETTO:+0000
TZNAME:GMT
DTSTART:20211031T020000Z
RRULE:FREQ=YEARLY;BYMONTH=10;BYDAY=-1SU
END:STANDARD
END:VTIMEZONE
BEGIN:VEVENT
SUMMARY:FG Friday
DTSTAMP:20210709T124211Z
SEQUENCE:0
UID:592-1-9fc065fb024381d9208cc46b874bab3c@forevergaming.co.uk
ORGANIZER;CN="Macca89":hello@forevergaming.co.uk
DESCRIPTION:\n	Ohhhhhhh FG!!!!!!! \n\n\n\n	 \n\n\n\n	Don't you dare be
	 sour! \n\n\n\n	 \n\n\n\n	Clap for your Euro finalists and feel the powe
	r! 🔥🔥🔥🔥\n\n\n\n	 \n\n\n\n	Anyway back to gaming! Looks like t
	he poll winners are Wreckfest and then a little Fall Guys/Bom
	berman 😁🤟😁🤟\n\n\n\n	 \n\n\n\n	If at some point during the ni
	ght people get in mood for some old school GTA we can always switch over t
	o that too! 😉😁\n\n\n\n	 \n\n\n\n	Get your name down guys! \n\n\n\
	n	 \n\n\n\n	It's gonna get messy! \n\n\n\n	 \n\n\n\n	Now give me 2 clap
	s and Ric Flair\n\n\n\n	 \n\n\n\n	👏👏 WOOOOOOOOOOO!!! \n\n\n\n	 \
	n\n\n\n	 \n
DTSTART:20210709T190000Z
ATTENDEE;CN="Macca89";CUTYPE=INDIVIDUAL;PARTSTAT=ACCEPTED:he
	llo@forevergaming.co.uk
ATTENDEE;CN="LordBaguette";CUTYPE=INDIVIDUAL;PARTSTAT=ACCEPT
	ED:hello@forevergaming.co.uk
ATTENDEE;CN="TheMuggySpud";CUTYPE=INDIVIDUAL;PARTSTAT=ACCEPT
	ED:hello@forevergaming.co.uk
ATTENDEE;CN="slamminbones";CUTYPE=INDIVIDUAL;PARTSTAT=ACCEPT
	ED:hello@forevergaming.co.uk
ATTENDEE;CN="GazzaGarratt";CUTYPE=INDIVIDUAL;PARTSTAT=ACCEPT
	ED:hello@forevergaming.co.uk
END:VEVENT
END:VCALENDAR
