BEGIN:VCALENDAR
VERSION:2.0
PRODID:-//InvisionCommunity Events 4.7.23//EN
METHOD:PUBLISH
CALSCALE:GREGORIAN
REFRESH-INTERVAL:PT15M
X-PUBLISHED-TTL:PT15M
X-WR-CALNAME:Community Calendar
NAME:Community Calendar
BEGIN:VTIMEZONE
TZID:Europe/London
TZURL:http://tzurl.org/zoneinfo/Europe/London
X-LIC-LOCATION:Europe/London
BEGIN:DAYLIGHT
TZOFFSETFROM:+0000
TZOFFSETTO:+0100
TZNAME:BST
DTSTART:20210328T020000Z
RRULE:FREQ=YEARLY;BYMONTH=3;BYDAY=-1SU
END:DAYLIGHT
BEGIN:STANDARD
TZOFFSETFROM:+0100
TZOFFSETTO:+0000
TZNAME:GMT
DTSTART:20211031T020000Z
RRULE:FREQ=YEARLY;BYMONTH=10;BYDAY=-1SU
END:STANDARD
END:VTIMEZONE
BEGIN:VEVENT
SUMMARY:Gran Turismo Sport - daily races
DTSTAMP:20210702T092551Z
SEQUENCE:0
UID:585-1-9fc065fb024381d9208cc46b874bab3c@forevergaming.co.uk
ORGANIZER;CN="phil bottle":hello@forevergaming.co.uk
DESCRIPTION:\n	Last week before league races start again. The first two 
	replicate this week's online daily races\, the last two are practice for n
	ext week's league races.\n\n\n\n	 \n\n\n\n	Race 1.\n\n\n\n	 \n\n\n\n	Dra
	gon Tail - Seaside 2\n\n\n\n	Gr.4\n\n\n\n	4 laps \n\n\n\n	Medium tyres on
	ly\n\n\n\n	No fuel or tyre use\n\n\n\n	 \n\n\n\n	Race 2.\n\n\n\n	 \n\n\n
	\n	Sardegna Road Track B2\n\n\n\n	Gr.3\n\n\n\n	8 laps\n\n\n\n	Hard tyres o
	nly \n\n\n\n	Fuel x2\n\n\n\n	Tyres x6\n\n\n\n	 \n\n\n\n	 \n\n\n\n	Race 
	3\n\n\n\n	 \n\n\n\n	Kyoto + Y &amp\; M\n\n\n\n	Gr.3\n\n\n\n	 \n\n\n\n	 
	\n\n\n\n	Race 4\n\n\n\n	 \n\n\n\n	Monza - no chicane\n\n\n\n	Gr.3\n
DTSTART:20210708T190000Z
ATTENDEE;CN="phil bottle";CUTYPE=INDIVIDUAL;PARTSTAT=ACCEPTE
	D:hello@forevergaming.co.uk
ATTENDEE;CN="GazzaGarratt";CUTYPE=INDIVIDUAL;PARTSTAT=ACCEPT
	ED:hello@forevergaming.co.uk
ATTENDEE;CN="slamminbones";CUTYPE=INDIVIDUAL;PARTSTAT=ACCEPT
	ED:hello@forevergaming.co.uk
ATTENDEE;CN="JBR-Kiwi";CUTYPE=INDIVIDUAL;PARTSTAT=ACCEPTED:h
	ello@forevergaming.co.uk
END:VEVENT
END:VCALENDAR
