BEGIN:VCALENDAR
VERSION:2.0
PRODID:-//InvisionCommunity Events 4.7.23//EN
METHOD:PUBLISH
CALSCALE:GREGORIAN
REFRESH-INTERVAL:PT15M
X-PUBLISHED-TTL:PT15M
X-WR-CALNAME:Destiny
NAME:Destiny
BEGIN:VTIMEZONE
TZID:Europe/London
TZURL:http://tzurl.org/zoneinfo/Europe/London
X-LIC-LOCATION:Europe/London
BEGIN:DAYLIGHT
TZOFFSETFROM:+0000
TZOFFSETTO:+0100
TZNAME:BST
DTSTART:20210328T020000Z
RRULE:FREQ=YEARLY;BYMONTH=3;BYDAY=-1SU
END:DAYLIGHT
BEGIN:STANDARD
TZOFFSETFROM:+0100
TZOFFSETTO:+0000
TZNAME:GMT
DTSTART:20211031T020000Z
RRULE:FREQ=YEARLY;BYMONTH=10;BYDAY=-1SU
END:STANDARD
END:VTIMEZONE
BEGIN:VEVENT
SUMMARY:DSC run
DTSTAMP:20210504T105832Z
SEQUENCE:0
UID:548-5-9fc065fb024381d9208cc46b874bab3c@forevergaming.co.uk
ORGANIZER;CN="Baabcat":hello@forevergaming.co.uk
DESCRIPTION:\n	Who's in?   @Bluebear and @Ajay  are so close to the ti
	tle that it would be great to get it done before VoG drops\, but we need R
	NG to be on our side\n
DTSTART:20210503T230000Z
END:VEVENT
END:VCALENDAR
