BEGIN:VCALENDAR
VERSION:2.0
PRODID:-//InvisionCommunity Events 4.7.23//EN
METHOD:PUBLISH
CALSCALE:GREGORIAN
REFRESH-INTERVAL:PT15M
X-PUBLISHED-TTL:PT15M
X-WR-CALNAME:Community Calendar
NAME:Community Calendar
BEGIN:VTIMEZONE
TZID:Europe/London
TZURL:http://tzurl.org/zoneinfo/Europe/London
X-LIC-LOCATION:Europe/London
BEGIN:DAYLIGHT
TZOFFSETFROM:+0000
TZOFFSETTO:+0100
TZNAME:BST
DTSTART:20210328T020000Z
RRULE:FREQ=YEARLY;BYMONTH=3;BYDAY=-1SU
END:DAYLIGHT
BEGIN:STANDARD
TZOFFSETFROM:+0100
TZOFFSETTO:+0000
TZNAME:GMT
DTSTART:20211031T020000Z
RRULE:FREQ=YEARLY;BYMONTH=10;BYDAY=-1SU
END:STANDARD
END:VTIMEZONE
BEGIN:VEVENT
SUMMARY:Gran Turismo Sport - daily races
DTSTAMP:20210428T105344Z
SEQUENCE:0
UID:541-1-9fc065fb024381d9208cc46b874bab3c@forevergaming.co.uk
ORGANIZER;CN="phil bottle":hello@forevergaming.co.uk
DESCRIPTION:\n	FG League Race #10\n\n\n\n	 \n\n\n\n	Laguna Seca\n\n\n\n
		Gr.3\n\n\n\n	15 laps (aim for low 1:20s)\n\n\n\n	Tyres x3\n\n\n\n	Fuel x5
	\n\n\n\n	Any tyres\n\n\n\n	Most cars will do 13 or 14 laps on full power\,
	 so be aware\, pitting or fuel saving may make or break your race.\n\n\n\n
		 \n\n\n\n	Race 2 and 3 TBC\n\n\n\n	 \n\n\n\n	 \n\n\n\n	 \n
DTSTART:20210504T183000Z
ATTENDEE;CN="phil bottle";CUTYPE=INDIVIDUAL;PARTSTAT=ACCEPTE
	D:hello@forevergaming.co.uk
ATTENDEE;CN="GazzaGarratt";CUTYPE=INDIVIDUAL;PARTSTAT=ACCEPT
	ED:hello@forevergaming.co.uk
ATTENDEE;CN="slamminbones";CUTYPE=INDIVIDUAL;PARTSTAT=ACCEPT
	ED:hello@forevergaming.co.uk
ATTENDEE;CN="Teenwolf25";CUTYPE=INDIVIDUAL;PARTSTAT=ACCEPTED
	:hello@forevergaming.co.uk
ATTENDEE;CN="JBR-Kiwi";CUTYPE=INDIVIDUAL;PARTSTAT=ACCEPTED:h
	ello@forevergaming.co.uk
ATTENDEE;CN="Mikepjbell";CUTYPE=INDIVIDUAL;PARTSTAT=ACCEPTED
	:hello@forevergaming.co.uk
ATTENDEE;CN="Greboth";CUTYPE=INDIVIDUAL;PARTSTAT=ACCEPTED:he
	llo@forevergaming.co.uk
END:VEVENT
END:VCALENDAR
