BEGIN:VCALENDAR
VERSION:2.0
PRODID:-//InvisionCommunity Events 4.7.23//EN
METHOD:PUBLISH
CALSCALE:GREGORIAN
REFRESH-INTERVAL:PT15M
X-PUBLISHED-TTL:PT15M
X-WR-CALNAME:Community Calendar
NAME:Community Calendar
BEGIN:VTIMEZONE
TZID:Europe/London
TZURL:http://tzurl.org/zoneinfo/Europe/London
X-LIC-LOCATION:Europe/London
BEGIN:DAYLIGHT
TZOFFSETFROM:+0000
TZOFFSETTO:+0100
TZNAME:BST
DTSTART:20210328T020000Z
RRULE:FREQ=YEARLY;BYMONTH=3;BYDAY=-1SU
END:DAYLIGHT
BEGIN:STANDARD
TZOFFSETFROM:+0100
TZOFFSETTO:+0000
TZNAME:GMT
DTSTART:20211031T020000Z
RRULE:FREQ=YEARLY;BYMONTH=10;BYDAY=-1SU
END:STANDARD
END:VTIMEZONE
BEGIN:VEVENT
SUMMARY:Gran Turismo Sport - Race Night
DTSTAMP:20210225T005330Z
SEQUENCE:0
UID:491-1-9fc065fb024381d9208cc46b874bab3c@forevergaming.co.uk
ORGANIZER;CN="phil bottle":hello@forevergaming.co.uk
DESCRIPTION:\n	Spring Season FG League race #1\n\n\n\n	 \n\n\n\n	Gr.3\n
	\n\n\n	Circuit de la Sarthe (Le Mans)\n\n\n\n	5 laps \n\n\n\n	All tyres 
	allowed.\n\n\n\n	Fuel x 4\n\n\n\n	Tyres x 7\n\n\n\n	 \n\n\n\n	 \n\n\n\n	
	Non League races \n\n\n\n	 \n\n\n\n	Race 2\n\n\n\n	Gr.B\n\n\n\n	Colorado
	 Springs - Lake\n\n\n\n	6 laps \n\n\n\n	Dirt tyres \n\n\n\n	No fuel or t
	yre use \n\n\n\n	 \n\n\n\n	Race 3\n\n\n\n	Gr.3\n\n\n\n	Tokyo Expressway 
	Inner Loop\n\n\n\n	5 laps\n\n\n\n	Heavy wet tyres\n\n\n\n	 \n\n\n\n	 \n\
	n\n\n	 \n\n\n\n	 \n
DTSTART:20210302T200000Z
ATTENDEE;CN="phil bottle";CUTYPE=INDIVIDUAL;PARTSTAT=ACCEPTE
	D:hello@forevergaming.co.uk
ATTENDEE;CN="Greboth";CUTYPE=INDIVIDUAL;PARTSTAT=ACCEPTED:he
	llo@forevergaming.co.uk
ATTENDEE;CN="GazzaGarratt";CUTYPE=INDIVIDUAL;PARTSTAT=ACCEPT
	ED:hello@forevergaming.co.uk
ATTENDEE;CN="Mikepjbell";CUTYPE=INDIVIDUAL;PARTSTAT=ACCEPTED
	:hello@forevergaming.co.uk
ATTENDEE;CN="Lurchzy";CUTYPE=INDIVIDUAL;PARTSTAT=ACCEPTED:he
	llo@forevergaming.co.uk
ATTENDEE;CN="Teenwolf25";CUTYPE=INDIVIDUAL;PARTSTAT=ACCEPTED
	:hello@forevergaming.co.uk
ATTENDEE;CN="slamminbones";CUTYPE=INDIVIDUAL;PARTSTAT=ACCEPT
	ED:hello@forevergaming.co.uk
ATTENDEE;CN="JBR-Kiwi";CUTYPE=INDIVIDUAL;PARTSTAT=ACCEPTED:h
	ello@forevergaming.co.uk
END:VEVENT
END:VCALENDAR
