BEGIN:VCALENDAR
VERSION:2.0
PRODID:-//InvisionCommunity Events 4.7.23//EN
METHOD:PUBLISH
CALSCALE:GREGORIAN
REFRESH-INTERVAL:PT15M
X-PUBLISHED-TTL:PT15M
X-WR-CALNAME:Community Calendar
NAME:Community Calendar
BEGIN:VTIMEZONE
TZID:Europe/London
TZURL:http://tzurl.org/zoneinfo/Europe/London
X-LIC-LOCATION:Europe/London
BEGIN:DAYLIGHT
TZOFFSETFROM:+0000
TZOFFSETTO:+0100
TZNAME:BST
DTSTART:20210328T020000Z
RRULE:FREQ=YEARLY;BYMONTH=3;BYDAY=-1SU
END:DAYLIGHT
BEGIN:STANDARD
TZOFFSETFROM:+0100
TZOFFSETTO:+0000
TZNAME:GMT
DTSTART:20211031T020000Z
RRULE:FREQ=YEARLY;BYMONTH=10;BYDAY=-1SU
END:STANDARD
END:VTIMEZONE
BEGIN:VEVENT
SUMMARY:FG Fridays - MW:Remastered Private Games!
DTSTAMP:20210204T155906Z
SEQUENCE:0
UID:472-1-9fc065fb024381d9208cc46b874bab3c@forevergaming.co.uk
ORGANIZER;CN="GazzaGarratt":hello@forevergaming.co.uk
DESCRIPTION:\n	Let's get to shooty shooty bang bang time again. 18 playe
	rs on Shipment? Oh\, go on then 😄\n\n\n\n	 \n\n\n\n	A few hours of CoD
	 followed by whatever you want afterwards - Wreckfest\, Ark\, Destiny\, 
	DayZ\, FIFA\, GT Sport\, GTA etc\n\n\n\n	 \n\n\n\n	Let's make sure you do
	n't feel like you are alone this year - grab whatever drink you enjoy and
	 jump in the chat! RSVP so we know who's in or out!! ❤️\n\n\n\n	 \n\
	n\n\n	GGFG\n
DTSTART:20210205T200000Z
ATTENDEE;CN="GazzaGarratt";CUTYPE=INDIVIDUAL;PARTSTAT=ACCEPT
	ED:hello@forevergaming.co.uk
ATTENDEE;CN="Macca89";CUTYPE=INDIVIDUAL;PARTSTAT=ACCEPTED:he
	llo@forevergaming.co.uk
ATTENDEE;CN="LordBaguette";CUTYPE=INDIVIDUAL;PARTSTAT=ACCEPT
	ED:hello@forevergaming.co.uk
ATTENDEE;CN="slamminbones";CUTYPE=INDIVIDUAL;PARTSTAT=ACCEPT
	ED:hello@forevergaming.co.uk
ATTENDEE;CN="Greboth";CUTYPE=INDIVIDUAL;PARTSTAT=ACCEPTED:he
	llo@forevergaming.co.uk
ATTENDEE;CN="techno";CUTYPE=INDIVIDUAL;PARTSTAT=ACCEPTED:hel
	lo@forevergaming.co.uk
END:VEVENT
END:VCALENDAR
