BEGIN:VCALENDAR
VERSION:2.0
PRODID:-//InvisionCommunity Events 4.7.23//EN
METHOD:PUBLISH
CALSCALE:GREGORIAN
REFRESH-INTERVAL:PT15M
X-PUBLISHED-TTL:PT15M
X-WR-CALNAME:Game Releases
NAME:Game Releases
BEGIN:VTIMEZONE
TZID:Europe/London
TZURL:http://tzurl.org/zoneinfo/Europe/London
X-LIC-LOCATION:Europe/London
BEGIN:DAYLIGHT
TZOFFSETFROM:+0000
TZOFFSETTO:+0100
TZNAME:BST
DTSTART:20170326T020000Z
RRULE:FREQ=YEARLY;BYMONTH=3;BYDAY=-1SU
END:DAYLIGHT
BEGIN:STANDARD
TZOFFSETFROM:+0100
TZOFFSETTO:+0000
TZNAME:GMT
DTSTART:20171029T020000Z
RRULE:FREQ=YEARLY;BYMONTH=10;BYDAY=-1SU
END:STANDARD
END:VTIMEZONE
BEGIN:VEVENT
SUMMARY:The Elder Scrolls Online: Morrowind
DTSTAMP:20170504T232246Z
SEQUENCE:0
UID:46-2-9fc065fb024381d9208cc46b874bab3c@forevergaming.co.uk
ORGANIZER;CN="GazzaGarratt":hello@forevergaming.co.uk
DESCRIPTION:\n	The Elder Scrolls Online is a massively multiplayer onlin
	e role-playing video game developed by ZeniMax Online Studios and publishe
	d by Bethesda Softworks. It was originally released for Microsoft Windows 
	and OS X on April 4\, 2014.\n\n\n\n	 \n\n\n\n	Out on June 6th for PS4\, X
	box One and PC.\n
DTSTART;VALUE=DATE:20170606
END:VEVENT
END:VCALENDAR
