BEGIN:VCALENDAR
VERSION:2.0
PRODID:-//InvisionCommunity Events 4.7.23//EN
METHOD:PUBLISH
CALSCALE:GREGORIAN
REFRESH-INTERVAL:PT15M
X-PUBLISHED-TTL:PT15M
X-WR-CALNAME:Community Calendar
NAME:Community Calendar
BEGIN:VTIMEZONE
TZID:Europe/London
TZURL:http://tzurl.org/zoneinfo/Europe/London
X-LIC-LOCATION:Europe/London
BEGIN:DAYLIGHT
TZOFFSETFROM:+0000
TZOFFSETTO:+0100
TZNAME:BST
DTSTART:20200329T020000Z
RRULE:FREQ=YEARLY;BYMONTH=3;BYDAY=-1SU
END:DAYLIGHT
BEGIN:STANDARD
TZOFFSETFROM:+0100
TZOFFSETTO:+0000
TZNAME:GMT
DTSTART:20201025T020000Z
RRULE:FREQ=YEARLY;BYMONTH=10;BYDAY=-1SU
END:STANDARD
END:VTIMEZONE
BEGIN:VEVENT
SUMMARY:Siege Friday
DTSTAMP:20201214T111938Z
SEQUENCE:0
UID:437-1-9fc065fb024381d9208cc46b874bab3c@forevergaming.co.uk
ORGANIZER;CN="J&B":hello@forevergaming.co.uk
DESCRIPTION:\n	As it is getting to that time of the year and most of us 
	may or may not be on. \n\n	 \n\n\n\n	 I thought it would be nice to get
	 together and play some Rainbow 6 Siege for fun. \n\n	 \n\n\n\n	will be 
	good to have some drinks and a laugh. \n
DTSTART:20201218T200000Z
ATTENDEE;CN="J&B";CUTYPE=INDIVIDUAL;PARTSTAT=ACCEPTED:hello@
	forevergaming.co.uk
ATTENDEE;CN="slamminbones";CUTYPE=INDIVIDUAL;PARTSTAT=ACCEPT
	ED:hello@forevergaming.co.uk
ATTENDEE;CN="ChaosGladiator";CUTYPE=INDIVIDUAL;PARTSTAT=ACCE
	PTED:hello@forevergaming.co.uk
ATTENDEE;CN="TheMuggySpud";CUTYPE=INDIVIDUAL;PARTSTAT=ACCEPT
	ED:hello@forevergaming.co.uk
ATTENDEE;CN="MrBiron";CUTYPE=INDIVIDUAL;PARTSTAT=ACCEPTED:he
	llo@forevergaming.co.uk
ATTENDEE;CN="Nutcuttlit";CUTYPE=INDIVIDUAL;PARTSTAT=ACCEPTED
	:hello@forevergaming.co.uk
END:VEVENT
END:VCALENDAR
