BEGIN:VCALENDAR
VERSION:2.0
PRODID:-//InvisionCommunity Events 4.7.23//EN
METHOD:PUBLISH
CALSCALE:GREGORIAN
REFRESH-INTERVAL:PT15M
X-PUBLISHED-TTL:PT15M
X-WR-CALNAME:Community Calendar
NAME:Community Calendar
BEGIN:VTIMEZONE
TZID:Europe/London
TZURL:http://tzurl.org/zoneinfo/Europe/London
X-LIC-LOCATION:Europe/London
BEGIN:DAYLIGHT
TZOFFSETFROM:+0000
TZOFFSETTO:+0100
TZNAME:BST
DTSTART:20200329T020000Z
RRULE:FREQ=YEARLY;BYMONTH=3;BYDAY=-1SU
END:DAYLIGHT
BEGIN:STANDARD
TZOFFSETFROM:+0100
TZOFFSETTO:+0000
TZNAME:GMT
DTSTART:20201025T020000Z
RRULE:FREQ=YEARLY;BYMONTH=10;BYDAY=-1SU
END:STANDARD
END:VTIMEZONE
BEGIN:VEVENT
SUMMARY:Gran Turismo Sport - daily races
DTSTAMP:20201207T130836Z
SEQUENCE:0
UID:433-1-9fc065fb024381d9208cc46b874bab3c@forevergaming.co.uk
ORGANIZER;CN="phil bottle":hello@forevergaming.co.uk
DESCRIPTION:\n	This week we can go for:\n\n\n\n	 \n\n\n\n	Gr.4 Mount Pa
	norama \n\n\n\n	3 laps\, no fuel and tyre = Racing: Hard\n\n\n\n	 \n\n\n
	\n	Gr.3 Laguna Seca\n\n\n\n	13 laps\, fuel 2x and tyres 10x. Racing: Hard 
	only.\n\n\n\n	 \n\n\n\n	@Misneach_ if you can make a race on Tuesday\, le
	t me know what time you can be on\, I'm sure you can manage on of the race
	s🙂\n\n\n\n	If not\, I'll look to set up a race on a Friday...\n\n\n\n	
	 \n
DTSTART:20201208T200000Z
ATTENDEE;CN="phil bottle";CUTYPE=INDIVIDUAL;PARTSTAT=ACCEPTE
	D:hello@forevergaming.co.uk
ATTENDEE;CN="Greboth";CUTYPE=INDIVIDUAL;PARTSTAT=ACCEPTED:he
	llo@forevergaming.co.uk
END:VEVENT
END:VCALENDAR
