BEGIN:VCALENDAR
VERSION:2.0
PRODID:-//InvisionCommunity Events 4.7.23//EN
METHOD:PUBLISH
CALSCALE:GREGORIAN
REFRESH-INTERVAL:PT15M
X-PUBLISHED-TTL:PT15M
X-WR-CALNAME:Game Releases
NAME:Game Releases
BEGIN:VTIMEZONE
TZID:Europe/London
TZURL:http://tzurl.org/zoneinfo/Europe/London
X-LIC-LOCATION:Europe/London
BEGIN:DAYLIGHT
TZOFFSETFROM:+0000
TZOFFSETTO:+0100
TZNAME:BST
DTSTART:20170326T020000Z
RRULE:FREQ=YEARLY;BYMONTH=3;BYDAY=-1SU
END:DAYLIGHT
BEGIN:STANDARD
TZOFFSETFROM:+0100
TZOFFSETTO:+0000
TZNAME:GMT
DTSTART:20171029T020000Z
RRULE:FREQ=YEARLY;BYMONTH=10;BYDAY=-1SU
END:STANDARD
END:VTIMEZONE
BEGIN:VEVENT
SUMMARY:Friday the 13th: The Game
DTSTAMP:20170504T231009Z
SEQUENCE:0
UID:42-2-9fc065fb024381d9208cc46b874bab3c@forevergaming.co.uk
ORGANIZER;CN="GazzaGarratt":hello@forevergaming.co.uk
DESCRIPTION:\n	Friday the 13th\n\n\n\n	Friday the 13th: The Game is an u
	pcoming survival horror video game developed by Gun Media and IllFonic\, a
	nd published by Gun Media. It is based on the franchise of the same name o
	wned by New Line Cinema.\n\n\n\n	 \n\n\n\n	Out on May 26th on PS4 and Xbo
	x One.\n
DTSTART;VALUE=DATE:20170526
END:VEVENT
END:VCALENDAR
