BEGIN:VCALENDAR
VERSION:2.0
PRODID:-//InvisionCommunity Events 4.7.23//EN
METHOD:PUBLISH
CALSCALE:GREGORIAN
REFRESH-INTERVAL:PT15M
X-PUBLISHED-TTL:PT15M
X-WR-CALNAME:Community Calendar
NAME:Community Calendar
BEGIN:VTIMEZONE
TZID:Europe/London
TZURL:http://tzurl.org/zoneinfo/Europe/London
X-LIC-LOCATION:Europe/London
BEGIN:DAYLIGHT
TZOFFSETFROM:+0000
TZOFFSETTO:+0100
TZNAME:BST
DTSTART:20200329T020000Z
RRULE:FREQ=YEARLY;BYMONTH=3;BYDAY=-1SU
END:DAYLIGHT
BEGIN:STANDARD
TZOFFSETFROM:+0100
TZOFFSETTO:+0000
TZNAME:GMT
DTSTART:20201025T020000Z
RRULE:FREQ=YEARLY;BYMONTH=10;BYDAY=-1SU
END:STANDARD
END:VTIMEZONE
BEGIN:VEVENT
SUMMARY:FG Fridays - FG GTA Races!
DTSTAMP:20201016T105702Z
SEQUENCE:0
UID:398-1-9fc065fb024381d9208cc46b874bab3c@forevergaming.co.uk
ORGANIZER;CN="GazzaGarratt":hello@forevergaming.co.uk
DESCRIPTION:\n	GTA FG Races is back! Let's try and get a huge lobby of 
	us all for tons of games\, races and banter. Get the game updated and i'l
	l start creating a PS4 Group Chat for FG Fridays - don't leave a random g
	roup otherwise you won't see the party chat open!!\n\n\n\n	 \n\n\n\n	RSVP
	 on the event so we know if you can or can't come!!!!\n
DTSTART:20201016T190000Z
ATTENDEE;CN="GazzaGarratt";CUTYPE=INDIVIDUAL;PARTSTAT=ACCEPT
	ED:hello@forevergaming.co.uk
ATTENDEE;CN="phil bottle";CUTYPE=INDIVIDUAL;PARTSTAT=ACCEPTE
	D:hello@forevergaming.co.uk
ATTENDEE;CN="slamminbones";CUTYPE=INDIVIDUAL;PARTSTAT=ACCEPT
	ED:hello@forevergaming.co.uk
ATTENDEE;CN="Stretch616";CUTYPE=INDIVIDUAL;PARTSTAT=ACCEPTED
	:hello@forevergaming.co.uk
ATTENDEE;CN="Diddums";CUTYPE=INDIVIDUAL;PARTSTAT=ACCEPTED:he
	llo@forevergaming.co.uk
END:VEVENT
END:VCALENDAR
