BEGIN:VCALENDAR
VERSION:2.0
PRODID:-//InvisionCommunity Events 4.7.23//EN
METHOD:PUBLISH
CALSCALE:GREGORIAN
REFRESH-INTERVAL:PT15M
X-PUBLISHED-TTL:PT15M
X-WR-CALNAME:Community Calendar
NAME:Community Calendar
BEGIN:VTIMEZONE
TZID:Europe/London
TZURL:http://tzurl.org/zoneinfo/Europe/London
X-LIC-LOCATION:Europe/London
BEGIN:DAYLIGHT
TZOFFSETFROM:+0000
TZOFFSETTO:+0100
TZNAME:BST
DTSTART:20200329T020000Z
RRULE:FREQ=YEARLY;BYMONTH=3;BYDAY=-1SU
END:DAYLIGHT
BEGIN:STANDARD
TZOFFSETFROM:+0100
TZOFFSETTO:+0000
TZNAME:GMT
DTSTART:20201025T020000Z
RRULE:FREQ=YEARLY;BYMONTH=10;BYDAY=-1SU
END:STANDARD
END:VTIMEZONE
BEGIN:VEVENT
SUMMARY:Call of Duty: Black Ops Cold War Alpha
DTSTAMP:20200918T102351Z
SEQUENCE:0
UID:380-1-9fc065fb024381d9208cc46b874bab3c@forevergaming.co.uk
ORGANIZER;CN="GazzaGarratt":hello@forevergaming.co.uk
DESCRIPTION:\n	The PS4 Alpha is available to download now and across the
	 entire weekend so let's see who will be about on it to give it some try o
	uts and first impressions!\n
DTSTART:20200918T170000Z
DTEND:20200920T170000Z
ATTENDEE;CN="GazzaGarratt";CUTYPE=INDIVIDUAL;PARTSTAT=ACCEPT
	ED:hello@forevergaming.co.uk
ATTENDEE;CN="phil bottle";CUTYPE=INDIVIDUAL;PARTSTAT=ACCEPTE
	D:hello@forevergaming.co.uk
END:VEVENT
END:VCALENDAR
