BEGIN:VCALENDAR
VERSION:2.0
PRODID:-//InvisionCommunity Events 4.7.23//EN
METHOD:PUBLISH
CALSCALE:GREGORIAN
REFRESH-INTERVAL:PT15M
X-PUBLISHED-TTL:PT15M
X-WR-CALNAME:Community Calendar
NAME:Community Calendar
BEGIN:VTIMEZONE
TZID:Europe/London
TZURL:http://tzurl.org/zoneinfo/Europe/London
X-LIC-LOCATION:Europe/London
BEGIN:DAYLIGHT
TZOFFSETFROM:+0000
TZOFFSETTO:+0100
TZNAME:BST
DTSTART:20170326T020000Z
RRULE:FREQ=YEARLY;BYMONTH=3;BYDAY=-1SU
END:DAYLIGHT
BEGIN:STANDARD
TZOFFSETFROM:+0100
TZOFFSETTO:+0000
TZNAME:GMT
DTSTART:20171029T020000Z
RRULE:FREQ=YEARLY;BYMONTH=10;BYDAY=-1SU
END:STANDARD
END:VTIMEZONE
BEGIN:VEVENT
SUMMARY:E3 2017
DTSTAMP:20170219T224214Z
SEQUENCE:0
UID:38-1-9fc065fb024381d9208cc46b874bab3c@forevergaming.co.uk
ORGANIZER;CN="GazzaGarratt":hello@forevergaming.co.uk
DESCRIPTION:\n	E3 is the world's premier event for computer\, video and 
	mobile games and related products. At E3\, the video game industry's top t
	alent pack the Los Angeles Convention Center\, connecting tens of thousand
	s of the best\, brightest\, and most innovative in the interactive enterta
	inment industry. For three exciting days\, leading-edge companies\, ground
	breaking new technologies and never-before-seen products will be showcased
	. E3 connects you with both new and existing partners\, industry executive
	s\, and the biggest fans of video games providing unprecedented exposure t
	o emerging markets. E3 is where it all starts. - See more at: https://www.
	e3expo.com/show-info/2895/about-e3/#sthash.aOurXGqR.dpuf\n
DTSTART;VALUE=DATE:20170613
DTEND;VALUE=DATE:20170616
END:VEVENT
END:VCALENDAR
