BEGIN:VCALENDAR
VERSION:2.0
PRODID:-//InvisionCommunity Events 4.7.23//EN
METHOD:PUBLISH
CALSCALE:GREGORIAN
REFRESH-INTERVAL:PT15M
X-PUBLISHED-TTL:PT15M
X-WR-CALNAME:Destiny
NAME:Destiny
BEGIN:VTIMEZONE
TZID:Europe/London
TZURL:http://tzurl.org/zoneinfo/Europe/London
X-LIC-LOCATION:Europe/London
BEGIN:DAYLIGHT
TZOFFSETFROM:+0000
TZOFFSETTO:+0100
TZNAME:BST
DTSTART:20200329T020000Z
RRULE:FREQ=YEARLY;BYMONTH=3;BYDAY=-1SU
END:DAYLIGHT
BEGIN:STANDARD
TZOFFSETFROM:+0100
TZOFFSETTO:+0000
TZNAME:GMT
DTSTART:20201025T020000Z
RRULE:FREQ=YEARLY;BYMONTH=10;BYDAY=-1SU
END:STANDARD
END:VTIMEZONE
BEGIN:VEVENT
SUMMARY:The Push for Prestige Leviathan (Planning)
DTSTAMP:20200913T193413Z
SEQUENCE:0
UID:376-5-9fc065fb024381d9208cc46b874bab3c@forevergaming.co.uk
ORGANIZER;CN="Bluebear":hello@forevergaming.co.uk
DESCRIPTION:\n	We have a few guys needing to do a Prestige Leviathan for
	 various things (Acrius catalyst\, armour sets etc)\, so I want to make a 
	big push to try and get it done this week.\n\n\n\n	 \n\n\n\n	I'll be avai
	lable every evening apart from Friday\; post below what you can do and we'
	ll try and work out a day that we can lock down.\n\n\n\n	 \n\n\n\n	@Forty
	6_N_two @ImRyzxn @Teenwolf25 @FallenDark200 @reaper-2201  @GazzaGarrattetc
	\n
DTSTART;VALUE=DATE:20200913
DTEND;VALUE=DATE:20200920
ATTENDEE;CN="Venom";CUTYPE=INDIVIDUAL;PARTSTAT=ACCEPTED:hell
	o@forevergaming.co.uk
END:VEVENT
END:VCALENDAR
