BEGIN:VCALENDAR
VERSION:2.0
PRODID:-//InvisionCommunity Events 4.7.23//EN
METHOD:PUBLISH
CALSCALE:GREGORIAN
REFRESH-INTERVAL:PT15M
X-PUBLISHED-TTL:PT15M
X-WR-CALNAME:Destiny
NAME:Destiny
BEGIN:VTIMEZONE
TZID:Europe/London
TZURL:http://tzurl.org/zoneinfo/Europe/London
X-LIC-LOCATION:Europe/London
BEGIN:DAYLIGHT
TZOFFSETFROM:+0000
TZOFFSETTO:+0100
TZNAME:BST
DTSTART:20200329T020000Z
RRULE:FREQ=YEARLY;BYMONTH=3;BYDAY=-1SU
END:DAYLIGHT
BEGIN:STANDARD
TZOFFSETFROM:+0100
TZOFFSETTO:+0000
TZNAME:GMT
DTSTART:20201025T020000Z
RRULE:FREQ=YEARLY;BYMONTH=10;BYDAY=-1SU
END:STANDARD
END:VTIMEZONE
BEGIN:VEVENT
SUMMARY:Garden of Salvation Raid Meet Up
DTSTAMP:20200901T124406Z
SEQUENCE:0
UID:374-5-9fc065fb024381d9208cc46b874bab3c@forevergaming.co.uk
ORGANIZER;CN="GazzaGarratt":hello@forevergaming.co.uk
DESCRIPTION:\n	Let's get Chad @Riff Machine  a helmet raid later tonigh
	t 😃\n\n\n	 \n\n\n\n	Make sure you check the time and RSVP if you or e
	ven if you can't so we know who to ask! If there is 6 just pop your name i
	n the comments as a back up so we know too.\n
DTSTART:20200901T203000Z
ATTENDEE;CN="FallenDark200";CUTYPE=INDIVIDUAL;PARTSTAT=ACCEP
	TED:hello@forevergaming.co.uk
ATTENDEE;CN="Venom";CUTYPE=INDIVIDUAL;PARTSTAT=ACCEPTED:hell
	o@forevergaming.co.uk
END:VEVENT
END:VCALENDAR
