BEGIN:VCALENDAR
VERSION:2.0
PRODID:-//InvisionCommunity Events 4.7.23//EN
METHOD:PUBLISH
CALSCALE:GREGORIAN
REFRESH-INTERVAL:PT15M
X-PUBLISHED-TTL:PT15M
X-WR-CALNAME:Community Calendar
NAME:Community Calendar
BEGIN:VTIMEZONE
TZID:Europe/London
TZURL:http://tzurl.org/zoneinfo/Europe/London
X-LIC-LOCATION:Europe/London
BEGIN:DAYLIGHT
TZOFFSETFROM:+0000
TZOFFSETTO:+0100
TZNAME:BST
DTSTART:20170326T020000Z
RRULE:FREQ=YEARLY;BYMONTH=3;BYDAY=-1SU
END:DAYLIGHT
BEGIN:STANDARD
TZOFFSETFROM:+0100
TZOFFSETTO:+0000
TZNAME:GMT
DTSTART:20171029T020000Z
RRULE:FREQ=YEARLY;BYMONTH=10;BYDAY=-1SU
END:STANDARD
END:VTIMEZONE
BEGIN:VEVENT
SUMMARY:Overwatch FG Placement Matches
DTSTAMP:20170219T215559Z
SEQUENCE:0
UID:37-1-9fc065fb024381d9208cc46b874bab3c@forevergaming.co.uk
ORGANIZER;CN="GazzaGarratt":hello@forevergaming.co.uk
DESCRIPTION:\n	Third catch up so hopefully most can get these games done
	 and we can help everyone keep their ranks together.\n
DTSTART:20170303T193000Z
DTEND:20170303T230000Z
END:VEVENT
END:VCALENDAR
