BEGIN:VCALENDAR
VERSION:2.0
PRODID:-//InvisionCommunity Events 4.7.23//EN
METHOD:PUBLISH
CALSCALE:GREGORIAN
REFRESH-INTERVAL:PT15M
X-PUBLISHED-TTL:PT15M
X-WR-CALNAME:Destiny
NAME:Destiny
BEGIN:VTIMEZONE
TZID:Europe/London
TZURL:http://tzurl.org/zoneinfo/Europe/London
X-LIC-LOCATION:Europe/London
BEGIN:DAYLIGHT
TZOFFSETFROM:+0000
TZOFFSETTO:+0100
TZNAME:BST
DTSTART:20200329T020000Z
RRULE:FREQ=YEARLY;BYMONTH=3;BYDAY=-1SU
END:DAYLIGHT
BEGIN:STANDARD
TZOFFSETFROM:+0100
TZOFFSETTO:+0000
TZNAME:GMT
DTSTART:20201025T020000Z
RRULE:FREQ=YEARLY;BYMONTH=10;BYDAY=-1SU
END:STANDARD
END:VTIMEZONE
BEGIN:VEVENT
SUMMARY:FG Raid Help - Eater of Worlds
DTSTAMP:20200818T111727Z
SEQUENCE:0
UID:367-5-9fc065fb024381d9208cc46b874bab3c@forevergaming.co.uk
ORGANIZER;CN="GazzaGarratt":hello@forevergaming.co.uk
DESCRIPTION:\n	@Leaner72  needs some help with Eater of Worlds so lets 
	try and get a raid team together later to help him out!\n\n\n\n	 \n\n\n\n
		I've made the limit to 7 so we have one on standby if needed. \n
DTSTART:20200818T190000Z
ATTENDEE;CN="reaper-2201";CUTYPE=INDIVIDUAL;PARTSTAT=ACCEPTE
	D:hello@forevergaming.co.uk
ATTENDEE;CN="GazzaGarratt";CUTYPE=INDIVIDUAL;PARTSTAT=ACCEPT
	ED:hello@forevergaming.co.uk
ATTENDEE;CN="Forty6_N_two";CUTYPE=INDIVIDUAL;PARTSTAT=ACCEPT
	ED:hello@forevergaming.co.uk
ATTENDEE;CN="Teenwolf25";CUTYPE=INDIVIDUAL;PARTSTAT=ACCEPTED
	:hello@forevergaming.co.uk
END:VEVENT
END:VCALENDAR
