BEGIN:VCALENDAR
VERSION:2.0
PRODID:-//InvisionCommunity Events 4.7.23//EN
METHOD:PUBLISH
CALSCALE:GREGORIAN
REFRESH-INTERVAL:PT15M
X-PUBLISHED-TTL:PT15M
X-WR-CALNAME:Destiny
NAME:Destiny
BEGIN:VTIMEZONE
TZID:Europe/London
TZURL:http://tzurl.org/zoneinfo/Europe/London
X-LIC-LOCATION:Europe/London
BEGIN:DAYLIGHT
TZOFFSETFROM:+0000
TZOFFSETTO:+0100
TZNAME:BST
DTSTART:20190331T020000Z
RRULE:FREQ=YEARLY;BYMONTH=3;BYDAY=-1SU
END:DAYLIGHT
BEGIN:STANDARD
TZOFFSETFROM:+0100
TZOFFSETTO:+0000
TZNAME:GMT
DTSTART:20191027T020000Z
RRULE:FREQ=YEARLY;BYMONTH=10;BYDAY=-1SU
END:STANDARD
END:VTIMEZONE
BEGIN:VEVENT
SUMMARY:FG Destiny Raid Time - Saturday
DTSTAMP:20190619T130912Z
SEQUENCE:0
UID:310-5-9fc065fb024381d9208cc46b874bab3c@forevergaming.co.uk
ORGANIZER;CN="GazzaGarratt":hello@forevergaming.co.uk
DESCRIPTION:\n	Time to start the raiding escapades again! 😎\n\n\n	 
	\n\n\n\n	Same as before\, lets put aside 2 hours\, pick a raid when we all
	 get online and see how far we get. The more we can try them all together\
	, the more consistent we become at knocking these raids out of the park.\n
	\n\n\n	 \n\n\n\n	If spots are taken by the time you see this\, stick your
	 name in the comments section and let us know if you can be a back up if s
	omeone can't make it or has to go early on in the raid.\n
DTSTART:20190622T190000Z
ATTENDEE;CN="Horrible_Hector";CUTYPE=INDIVIDUAL;PARTSTAT=ACC
	EPTED:hello@forevergaming.co.uk
ATTENDEE;CN="reaper-2201";CUTYPE=INDIVIDUAL;PARTSTAT=ACCEPTE
	D:hello@forevergaming.co.uk
ATTENDEE;CN="GazzaGarratt";CUTYPE=INDIVIDUAL;PARTSTAT=ACCEPT
	ED:hello@forevergaming.co.uk
ATTENDEE;CN="Kemp210";CUTYPE=INDIVIDUAL;PARTSTAT=ACCEPTED:he
	llo@forevergaming.co.uk
ATTENDEE;CN="Capn_Underpants";CUTYPE=INDIVIDUAL;PARTSTAT=ACC
	EPTED:hello@forevergaming.co.uk
END:VEVENT
END:VCALENDAR
