BEGIN:VCALENDAR
VERSION:2.0
PRODID:-//InvisionCommunity Events 4.7.23//EN
METHOD:PUBLISH
CALSCALE:GREGORIAN
REFRESH-INTERVAL:PT15M
X-PUBLISHED-TTL:PT15M
X-WR-CALNAME:Destiny
NAME:Destiny
BEGIN:VTIMEZONE
TZID:Europe/London
TZURL:http://tzurl.org/zoneinfo/Europe/London
X-LIC-LOCATION:Europe/London
BEGIN:DAYLIGHT
TZOFFSETFROM:+0000
TZOFFSETTO:+0100
TZNAME:BST
DTSTART:20180325T020000Z
RRULE:FREQ=YEARLY;BYMONTH=3;BYDAY=-1SU
END:DAYLIGHT
BEGIN:STANDARD
TZOFFSETFROM:+0100
TZOFFSETTO:+0000
TZNAME:GMT
DTSTART:20181028T020000Z
RRULE:FREQ=YEARLY;BYMONTH=10;BYDAY=-1SU
END:STANDARD
END:VTIMEZONE
BEGIN:VEVENT
SUMMARY:Whisper of the Worm Support Runs
DTSTAMP:20180919T210623Z
SEQUENCE:0
UID:264-5-9fc065fb024381d9208cc46b874bab3c@forevergaming.co.uk
ORGANIZER;CN="GazzaGarratt":hello@forevergaming.co.uk
DESCRIPTION:\n	Let's try some support nights for all of FG to get the Wh
	isper!\n\n\n\n	 \n\n\n\n	We'll need a few experienced runners through th
	e night to add their names. Equally\, if you haven't got it please add you
	r name down if you can be available in the time window of this calendar ev
	ent. Comment below if you know what time you should be around to help us w
	ork out how many we're helping. Also\, add your power level just to help u
	s understand what support is needed.\n\n\n\n	 \n\n\n\n	Let's own this Whi
	sper Mission FG!\n
DTSTART:20180922T183000Z
DTEND:20180922T223000Z
ATTENDEE;CN="Jason";CUTYPE=INDIVIDUAL;PARTSTAT=ACCEPTED:hell
	o@forevergaming.co.uk
ATTENDEE;CN="GazzaGarratt";CUTYPE=INDIVIDUAL;PARTSTAT=ACCEPT
	ED:hello@forevergaming.co.uk
ATTENDEE;CN="Capn_Underpants";CUTYPE=INDIVIDUAL;PARTSTAT=ACC
	EPTED:hello@forevergaming.co.uk
END:VEVENT
END:VCALENDAR
