BEGIN:VCALENDAR
VERSION:2.0
PRODID:-//InvisionCommunity Events 4.7.23//EN
METHOD:PUBLISH
CALSCALE:GREGORIAN
REFRESH-INTERVAL:PT15M
X-PUBLISHED-TTL:PT15M
X-WR-CALNAME:Destiny
NAME:Destiny
BEGIN:VTIMEZONE
TZID:Europe/London
TZURL:http://tzurl.org/zoneinfo/Europe/London
X-LIC-LOCATION:Europe/London
BEGIN:DAYLIGHT
TZOFFSETFROM:+0000
TZOFFSETTO:+0100
TZNAME:BST
DTSTART:20180325T020000Z
RRULE:FREQ=YEARLY;BYMONTH=3;BYDAY=-1SU
END:DAYLIGHT
BEGIN:STANDARD
TZOFFSETFROM:+0100
TZOFFSETTO:+0000
TZNAME:GMT
DTSTART:20181028T020000Z
RRULE:FREQ=YEARLY;BYMONTH=10;BYDAY=-1SU
END:STANDARD
END:VTIMEZONE
BEGIN:VEVENT
SUMMARY:Whisper of the Worm Support Run
DTSTAMP:20180820T172200Z
SEQUENCE:0
UID:253-5-9fc065fb024381d9208cc46b874bab3c@forevergaming.co.uk
ORGANIZER;CN="Amnotright":hello@forevergaming.co.uk
DESCRIPTION:\n	I call a charity event as I need carried through please T
	hanks you very much\n\n\n\n	 \n\n\n\n	_______________________________\n\n
	\n\n	 \n\n\n\n	EDIT by Lee - Changed to Friday because event is only here
	 from Friday reset to Monday reset. Also\, more people can add themselves 
	on to this event if you need this weapon still.\n\n\n\n	 \n\n\n\n	Experie
	nced people - need 2 people to help the others out. I'm away on Friday oth
	erwise I would support. Thanks all.\n
DTSTART:20180824T183000Z
DTEND:20180824T210000Z
ATTENDEE;CN="Amnotright";CUTYPE=INDIVIDUAL;PARTSTAT=ACCEPTED
	:hello@forevergaming.co.uk
ATTENDEE;CN="bluffin109";CUTYPE=INDIVIDUAL;PARTSTAT=ACCEPTED
	:hello@forevergaming.co.uk
END:VEVENT
END:VCALENDAR
