BEGIN:VCALENDAR
VERSION:2.0
PRODID:-//InvisionCommunity Events 4.7.23//EN
METHOD:PUBLISH
CALSCALE:GREGORIAN
REFRESH-INTERVAL:PT15M
X-PUBLISHED-TTL:PT15M
X-WR-CALNAME:Destiny
NAME:Destiny
BEGIN:VTIMEZONE
TZID:Europe/London
TZURL:http://tzurl.org/zoneinfo/Europe/London
X-LIC-LOCATION:Europe/London
BEGIN:DAYLIGHT
TZOFFSETFROM:+0000
TZOFFSETTO:+0100
TZNAME:BST
DTSTART:20180325T020000Z
RRULE:FREQ=YEARLY;BYMONTH=3;BYDAY=-1SU
END:DAYLIGHT
BEGIN:STANDARD
TZOFFSETFROM:+0100
TZOFFSETTO:+0000
TZNAME:GMT
DTSTART:20181028T020000Z
RRULE:FREQ=YEARLY;BYMONTH=10;BYDAY=-1SU
END:STANDARD
END:VTIMEZONE
BEGIN:VEVENT
SUMMARY:Raid d2
DTSTAMP:20180723T184448Z
SEQUENCE:0
UID:216-5-9fc065fb024381d9208cc46b874bab3c@forevergaming.co.uk
ORGANIZER;CN="Kemp210":hello@forevergaming.co.uk
DESCRIPTION:\n	Raid for any f2 games on ps4 I will plus my friend but I 
	want him to do it this week has he not yet done it \n
DTSTART;VALUE=DATE:20180723
END:VEVENT
END:VCALENDAR
