BEGIN:VCALENDAR
VERSION:2.0
PRODID:-//InvisionCommunity Events 4.7.23//EN
METHOD:PUBLISH
CALSCALE:GREGORIAN
REFRESH-INTERVAL:PT15M
X-PUBLISHED-TTL:PT15M
X-WR-CALNAME:Community Calendar
NAME:Community Calendar
BEGIN:VTIMEZONE
TZID:Europe/London
TZURL:http://tzurl.org/zoneinfo/Europe/London
X-LIC-LOCATION:Europe/London
BEGIN:DAYLIGHT
TZOFFSETFROM:+0000
TZOFFSETTO:+0100
TZNAME:BST
DTSTART:20180325T020000Z
RRULE:FREQ=YEARLY;BYMONTH=3;BYDAY=-1SU
END:DAYLIGHT
BEGIN:STANDARD
TZOFFSETFROM:+0100
TZOFFSETTO:+0000
TZNAME:GMT
DTSTART:20181028T020000Z
RRULE:FREQ=YEARLY;BYMONTH=10;BYDAY=-1SU
END:STANDARD
END:VTIMEZONE
BEGIN:VEVENT
SUMMARY:Cards Against Humanity (PC/Phone)
DTSTAMP:20180602T111845Z
SEQUENCE:0
UID:209-1-9fc065fb024381d9208cc46b874bab3c@forevergaming.co.uk
ORGANIZER;CN="GazzaGarratt":hello@forevergaming.co.uk
DESCRIPTION:\n	Right\, we need to test some 4K resolution out by playing
	 state of the art\, Cards Against Humanity! @Greboth will set it all up\,
	 see below the details you need\, make sure you RSVP people!\n\n\n\n	 \n\
	n\n\n	Looking forward to playing the FG pack again and destroying some liv
	es.\n\n\n\n	 \n\n\n\n	 \n\n\n\n	It is played in your web browser at: ht
	tp://www.pretendyoure.xyz/ which I can create a private game for us all.
	  Also you will need to have discord as CaH only works when talking with 
	each other so download it at: https://discord.gg/DhZj6eh .\n\n\n\n	 \n\
	n\n\n	So be there or be a rectangular thing.\n
DTSTART:20180613T183000Z
DTEND:20180613T200000Z
ATTENDEE;CN="D4rk_Uprising01";CUTYPE=INDIVIDUAL;PARTSTAT=ACC
	EPTED:hello@forevergaming.co.uk
END:VEVENT
END:VCALENDAR
