BEGIN:VCALENDAR
VERSION:2.0
PRODID:-//InvisionCommunity Events 4.7.23//EN
METHOD:PUBLISH
CALSCALE:GREGORIAN
REFRESH-INTERVAL:PT15M
X-PUBLISHED-TTL:PT15M
X-WR-CALNAME:Overwatch
NAME:Overwatch
BEGIN:VTIMEZONE
TZID:Europe/London
TZURL:http://tzurl.org/zoneinfo/Europe/London
X-LIC-LOCATION:Europe/London
BEGIN:DAYLIGHT
TZOFFSETFROM:+0000
TZOFFSETTO:+0100
TZNAME:BST
DTSTART:20180325T020000Z
RRULE:FREQ=YEARLY;BYMONTH=3;BYDAY=-1SU
END:DAYLIGHT
BEGIN:STANDARD
TZOFFSETFROM:+0100
TZOFFSETTO:+0000
TZNAME:GMT
DTSTART:20181028T020000Z
RRULE:FREQ=YEARLY;BYMONTH=10;BYDAY=-1SU
END:STANDARD
END:VTIMEZONE
BEGIN:VEVENT
SUMMARY:Someone play Overwatch with me!
DTSTAMP:20180512T144847Z
SEQUENCE:0
UID:204-3-9fc065fb024381d9208cc46b874bab3c@forevergaming.co.uk
ORGANIZER;CN="Capn_Underpants":hello@forevergaming.co.uk
DESCRIPTION:\n	I haven't played Overwatch in a while. A majority of the 
	people that play it are in the UK so I always miss out on these things. Bu
	t Saturday I have a morning shift! Which never happens on a weekend... So 
	maybe we can organize something!\n
DTSTART:20180519T183000Z
ATTENDEE;CN="Capn_Underpants";CUTYPE=INDIVIDUAL;PARTSTAT=ACC
	EPTED:hello@forevergaming.co.uk
ATTENDEE;CN="tronic44";CUTYPE=INDIVIDUAL;PARTSTAT=ACCEPTED:h
	ello@forevergaming.co.uk
END:VEVENT
END:VCALENDAR
