BEGIN:VCALENDAR
VERSION:2.0
PRODID:-//InvisionCommunity Events 4.7.23//EN
METHOD:PUBLISH
CALSCALE:GREGORIAN
REFRESH-INTERVAL:PT15M
X-PUBLISHED-TTL:PT15M
X-WR-CALNAME:Community Calendar
NAME:Community Calendar
BEGIN:VTIMEZONE
TZID:Europe/London
TZURL:http://tzurl.org/zoneinfo/Europe/London
X-LIC-LOCATION:Europe/London
BEGIN:DAYLIGHT
TZOFFSETFROM:+0000
TZOFFSETTO:+0100
TZNAME:BST
DTSTART:20240331T020000Z
RRULE:FREQ=YEARLY;BYMONTH=3;BYDAY=-1SU
END:DAYLIGHT
BEGIN:STANDARD
TZOFFSETFROM:+0100
TZOFFSETTO:+0000
TZNAME:GMT
DTSTART:20241027T020000Z
RRULE:FREQ=YEARLY;BYMONTH=10;BYDAY=-1SU
END:STANDARD
END:VTIMEZONE
BEGIN:VEVENT
SUMMARY:D&D Night!
DTSTAMP:20241022T064158Z
SEQUENCE:0
UID:1117-1-9fc065fb024381d9208cc46b874bab3c@forevergaming.co.uk
ORGANIZER;CN="Luseth":hello@forevergaming.co.uk
DESCRIPTION:\n	So the last session led to us reaching the dragon's cave\
	, there we fought a dragon like creature that had decided to make a home i
	n the cave\, dispatched with relative ease we ventured in.\n\n\n\n	 \n\n\
	n\n	It didn't take too long before we found the dragon's wealth and the re
	mains of the dragon\, exploring the room and taking what treasure's we cou
	ld\, Barm was underway with taking the dragon heart. As soon as he got it\
	, things soon went south for the group as he used some kind of spell to fr
	eeze us all and look to make his escape.\n\n\n\n	 \n\n\n\n	Things then we
	nt really South when the amazonian warrior decided she had finally had eno
	ugh of Arn and as the pair escaped she plunged a knife into Arn's chest.\n
	\n\n\n	 \n\n\n\n	This is where we begin this week's session\, the group h
	as grown considerably since Arn\, Brock &amp\; Dravaram took on a measly g
	roup of thugs in the tavern with a berserker\, ranger and warlock joining 
	the group\, will they seek revenge?\n\n
DTSTART:20241026T190000Z
ATTENDEE;CN="Luseth";CUTYPE=INDIVIDUAL;PARTSTAT=ACCEPTED:hel
	lo@forevergaming.co.uk
ATTENDEE;CN="Lurchzy";CUTYPE=INDIVIDUAL;PARTSTAT=ACCEPTED:he
	llo@forevergaming.co.uk
ATTENDEE;CN="TheMuggySpud";CUTYPE=INDIVIDUAL;PARTSTAT=ACCEPT
	ED:hello@forevergaming.co.uk
ATTENDEE;CN="GazzaGarratt";CUTYPE=INDIVIDUAL;PARTSTAT=ACCEPT
	ED:hello@forevergaming.co.uk
ATTENDEE;CN="jordie1892";CUTYPE=INDIVIDUAL;PARTSTAT=ACCEPTED
	:hello@forevergaming.co.uk
ATTENDEE;CN="Misneach_";CUTYPE=INDIVIDUAL;PARTSTAT=ACCEPTED:
	hello@forevergaming.co.uk
END:VEVENT
END:VCALENDAR
