BEGIN:VCALENDAR
VERSION:2.0
PRODID:-//InvisionCommunity Events 4.7.23//EN
METHOD:PUBLISH
CALSCALE:GREGORIAN
REFRESH-INTERVAL:PT15M
X-PUBLISHED-TTL:PT15M
X-WR-CALNAME:Community Calendar
NAME:Community Calendar
BEGIN:VTIMEZONE
TZID:Europe/London
TZURL:http://tzurl.org/zoneinfo/Europe/London
X-LIC-LOCATION:Europe/London
BEGIN:DAYLIGHT
TZOFFSETFROM:+0000
TZOFFSETTO:+0100
TZNAME:BST
DTSTART:20240331T020000Z
RRULE:FREQ=YEARLY;BYMONTH=3;BYDAY=-1SU
END:DAYLIGHT
BEGIN:STANDARD
TZOFFSETFROM:+0100
TZOFFSETTO:+0000
TZNAME:GMT
DTSTART:20241027T020000Z
RRULE:FREQ=YEARLY;BYMONTH=10;BYDAY=-1SU
END:STANDARD
END:VTIMEZONE
BEGIN:VEVENT
SUMMARY:FG Friday - Among Us!
DTSTAMP:20240205T095334Z
SEQUENCE:0
UID:1076-1-9fc065fb024381d9208cc46b874bab3c@forevergaming.co.uk
ORGANIZER;CN="Luseth":hello@forevergaming.co.uk
DESCRIPTION:\n	\n		\n			\n				Picture an evening filled with tension and
	 laughter as friends gather online for a thrilling session of \"Among Us.\
	" As the game begins\, James\, despite his best intentions\, always seems 
	to meet an untimely demise within the first few minutes of each round. Whe
	ther it's a cleverly executed impostor strategy or just unfortunate timing
	\, James finds himself in the wrong place at the wrong time\, much to the 
	amusement of his fellow players.\n			\n\n			\n				 \n			\n\n			\n				As t
	he game progresses\, Slamminbones' catchphrase \"Why you lying for?\" beco
	mes a running joke among the players\, particularly when suspicions arise 
	and trust begins to waver. Despite James' unfortunate luck and Slamminbone
	s' relentless questioning\, the evening is filled with excitement\, camara
	derie\, and plenty of memorable moments shared among friends in the chaoti
	c world of \"Among Us.\"\n			\n		\n	\n\n
DTSTART:20240209T200000Z
ATTENDEE;CN="GazzaGarratt";CUTYPE=INDIVIDUAL;PARTSTAT=ACCEPT
	ED:hello@forevergaming.co.uk
ATTENDEE;CN="Chocolateboy";CUTYPE=INDIVIDUAL;PARTSTAT=ACCEPT
	ED:hello@forevergaming.co.uk
ATTENDEE;CN="Greboth";CUTYPE=INDIVIDUAL;PARTSTAT=ACCEPTED:he
	llo@forevergaming.co.uk
END:VEVENT
END:VCALENDAR
