BEGIN:VCALENDAR
VERSION:2.0
PRODID:-//InvisionCommunity Events 4.7.23//EN
METHOD:PUBLISH
CALSCALE:GREGORIAN
REFRESH-INTERVAL:PT15M
X-PUBLISHED-TTL:PT15M
X-WR-CALNAME:Destiny
NAME:Destiny
BEGIN:VTIMEZONE
TZID:Europe/London
TZURL:http://tzurl.org/zoneinfo/Europe/London
X-LIC-LOCATION:Europe/London
BEGIN:DAYLIGHT
TZOFFSETFROM:+0000
TZOFFSETTO:+0100
TZNAME:BST
DTSTART:20170326T020000Z
RRULE:FREQ=YEARLY;BYMONTH=3;BYDAY=-1SU
END:DAYLIGHT
BEGIN:STANDARD
TZOFFSETFROM:+0100
TZOFFSETTO:+0000
TZNAME:GMT
DTSTART:20171029T020000Z
RRULE:FREQ=YEARLY;BYMONTH=10;BYDAY=-1SU
END:STANDARD
END:VTIMEZONE
BEGIN:VEVENT
SUMMARY:Raid Night for DaveyDave
DTSTAMP:20170831T102538Z
SEQUENCE:0
UID:107-5-9fc065fb024381d9208cc46b874bab3c@forevergaming.co.uk
ORGANIZER;CN="GazzaGarratt":hello@forevergaming.co.uk
DESCRIPTION:\n	Let's try again to get 6 people. I'll be back from hols t
	omorrow night so I can do it. Need 4 more please!\n
DTSTART:20170901T190000Z
DTEND:20170901T210000Z
ATTENDEE;CN="GazzaGarratt";CUTYPE=INDIVIDUAL;PARTSTAT=ACCEPT
	ED:hello@forevergaming.co.uk
ATTENDEE;CN="Greboth";CUTYPE=INDIVIDUAL;PARTSTAT=ACCEPTED:he
	llo@forevergaming.co.uk
ATTENDEE;CN="techno";CUTYPE=INDIVIDUAL;PARTSTAT=ACCEPTED:hel
	lo@forevergaming.co.uk
ATTENDEE;CN="IPSWICH HIGASHI";CUTYPE=INDIVIDUAL;PARTSTAT=ACC
	EPTED:hello@forevergaming.co.uk
END:VEVENT
END:VCALENDAR
