BEGIN:VCALENDAR
VERSION:2.0
PRODID:-//InvisionCommunity Events 4.7.23//EN
METHOD:PUBLISH
CALSCALE:GREGORIAN
REFRESH-INTERVAL:PT15M
X-PUBLISHED-TTL:PT15M
X-WR-CALNAME:Community Calendar
NAME:Community Calendar
BEGIN:VTIMEZONE
TZID:Europe/London
TZURL:http://tzurl.org/zoneinfo/Europe/London
X-LIC-LOCATION:Europe/London
BEGIN:DAYLIGHT
TZOFFSETFROM:+0000
TZOFFSETTO:+0100
TZNAME:BST
DTSTART:20240331T020000Z
RRULE:FREQ=YEARLY;BYMONTH=3;BYDAY=-1SU
END:DAYLIGHT
BEGIN:STANDARD
TZOFFSETFROM:+0100
TZOFFSETTO:+0000
TZNAME:GMT
DTSTART:20241027T020000Z
RRULE:FREQ=YEARLY;BYMONTH=10;BYDAY=-1SU
END:STANDARD
END:VTIMEZONE
BEGIN:VEVENT
SUMMARY:The Finals
DTSTAMP:20240118T103141Z
SEQUENCE:0
UID:1059-1-9fc065fb024381d9208cc46b874bab3c@forevergaming.co.uk
ORGANIZER;CN="MrBiron":hello@forevergaming.co.uk
DESCRIPTION:\n	Seems a few people are interested in this and I am but I 
	never get to play. So I've set up an event for it.\n\n
DTSTART:20240125T200000Z
ATTENDEE;CN="Lurchzy";CUTYPE=INDIVIDUAL;PARTSTAT=ACCEPTED:he
	llo@forevergaming.co.uk
ATTENDEE;CN="Luseth";CUTYPE=INDIVIDUAL;PARTSTAT=ACCEPTED:hel
	lo@forevergaming.co.uk
ATTENDEE;CN="MrBiron";CUTYPE=INDIVIDUAL;PARTSTAT=ACCEPTED:he
	llo@forevergaming.co.uk
ATTENDEE;CN="JamaicanSteve";CUTYPE=INDIVIDUAL;PARTSTAT=ACCEP
	TED:hello@forevergaming.co.uk
END:VEVENT
END:VCALENDAR
