BEGIN:VCALENDAR
VERSION:2.0
PRODID:-//InvisionCommunity Events 4.7.23//EN
METHOD:PUBLISH
CALSCALE:GREGORIAN
REFRESH-INTERVAL:PT15M
X-PUBLISHED-TTL:PT15M
X-WR-CALNAME:Gran Turismo / Racing
NAME:Gran Turismo / Racing
BEGIN:VTIMEZONE
TZID:Europe/London
TZURL:http://tzurl.org/zoneinfo/Europe/London
X-LIC-LOCATION:Europe/London
BEGIN:DAYLIGHT
TZOFFSETFROM:+0000
TZOFFSETTO:+0100
TZNAME:BST
DTSTART:20230326T020000Z
RRULE:FREQ=YEARLY;BYMONTH=3;BYDAY=-1SU
END:DAYLIGHT
BEGIN:STANDARD
TZOFFSETFROM:+0100
TZOFFSETTO:+0000
TZNAME:GMT
DTSTART:20231029T020000Z
RRULE:FREQ=YEARLY;BYMONTH=10;BYDAY=-1SU
END:STANDARD
END:VTIMEZONE
BEGIN:VEVENT
SUMMARY:Gran Turismo 7 race night
DTSTAMP:20231016T110034Z
SEQUENCE:0
UID:1032-9-9fc065fb024381d9208cc46b874bab3c@forevergaming.co.uk
ORGANIZER;CN="phil bottle":hello@forevergaming.co.uk
DESCRIPTION:\n	Vroom vroom\n\n
DTSTART:20231017T190000Z
ATTENDEE;CN="phil bottle";CUTYPE=INDIVIDUAL;PARTSTAT=ACCEPTE
	D:hello@forevergaming.co.uk
ATTENDEE;CN="Mikepjbell";CUTYPE=INDIVIDUAL;PARTSTAT=ACCEPTED
	:hello@forevergaming.co.uk
ATTENDEE;CN="slamminbones";CUTYPE=INDIVIDUAL;PARTSTAT=ACCEPT
	ED:hello@forevergaming.co.uk
ATTENDEE;CN="Greboth";CUTYPE=INDIVIDUAL;PARTSTAT=ACCEPTED:he
	llo@forevergaming.co.uk
ATTENDEE;CN="GazzaGarratt";CUTYPE=INDIVIDUAL;PARTSTAT=ACCEPT
	ED:hello@forevergaming.co.uk
ATTENDEE;CN="Bluebear";CUTYPE=INDIVIDUAL;PARTSTAT=ACCEPTED:h
	ello@forevergaming.co.uk
END:VEVENT
END:VCALENDAR
